BEGIN:VCALENDAR
VERSION:2.0
PRODID:-//Montauk Sun - ECPv6.15.11//NONSGML v1.0//EN
CALSCALE:GREGORIAN
METHOD:PUBLISH
X-WR-CALNAME:Montauk Sun
X-ORIGINAL-URL:https://www.montauksun.com
X-WR-CALDESC:Events for Montauk Sun
REFRESH-INTERVAL;VALUE=DURATION:PT1H
X-Robots-Tag:noindex
X-PUBLISHED-TTL:PT1H
BEGIN:VTIMEZONE
TZID:America/New_York
BEGIN:DAYLIGHT
TZOFFSETFROM:-0500
TZOFFSETTO:-0400
TZNAME:EDT
DTSTART:20250309T070000
END:DAYLIGHT
BEGIN:STANDARD
TZOFFSETFROM:-0400
TZOFFSETTO:-0500
TZNAME:EST
DTSTART:20251102T060000
END:STANDARD
BEGIN:DAYLIGHT
TZOFFSETFROM:-0500
TZOFFSETTO:-0400
TZNAME:EDT
DTSTART:20260308T070000
END:DAYLIGHT
BEGIN:STANDARD
TZOFFSETFROM:-0400
TZOFFSETTO:-0500
TZNAME:EST
DTSTART:20261101T060000
END:STANDARD
BEGIN:DAYLIGHT
TZOFFSETFROM:-0500
TZOFFSETTO:-0400
TZNAME:EDT
DTSTART:20270314T070000
END:DAYLIGHT
BEGIN:STANDARD
TZOFFSETFROM:-0400
TZOFFSETTO:-0500
TZNAME:EST
DTSTART:20271107T060000
END:STANDARD
END:VTIMEZONE
BEGIN:VEVENT
DTSTART;VALUE=DATE:20260514
DTEND;VALUE=DATE:20260518
DTSTAMP:20260421T114812
CREATED:20260113T133431Z
LAST-MODIFIED:20260113T133431Z
UID:22108-1778716800-1779062399@www.montauksun.com
SUMMARY:The 15th Annual Montauk Music Festival
DESCRIPTION:Presented by The Montauk Sun\n4 Days • 400 Shows • 100 Bands • 45 Venues\nMain Stage is on the Green\nA percentage of the Main Stage proceeds will benefit Lucia’s Angels & Coalition for Women’s Cancers\nMay 14 to 17\, 2026\nJoin us at the opening party Thursday May 14th\, 6:15 pm at the Westlake Fish House\nA 4 day long showcase of Musicians performing original music. 45 different venues in Montauk\, NY.\nAlso a 2-day open air stage concert with two stages \nfeaturing Rock\, Pop\, Americana Alternative\, Reggae\, Blues\, Jazz\, Flamenco\, Country…\nFor info www.montaukmusicfestival.com
URL:https://www.montauksun.com/event/the-15th-annual-montauk-music-festival/
LOCATION:NY
CATEGORIES:Entertainment
ATTACH;FMTTYPE=image/jpeg:https://www.montauksun.com/wp-content/uploads/2026/01/MMF-Logo.jpg
END:VEVENT
BEGIN:VEVENT
DTSTART;TZID=America/New_York:20260521T090000
DTEND;TZID=America/New_York:20260521T140000
DTSTAMP:20260421T114812
CREATED:20260420T155412Z
LAST-MODIFIED:20260420T155412Z
UID:22456-1779354000-1779372000@www.montauksun.com
SUMMARY:Montauk Chamber of Commerce & Visit Montauk's Farmers Market
DESCRIPTION:Be sure to swing into Montauk each Thursday of the summer season to enjoy the largest Farmers Market on the East End with over 40 vendors. Open from 9:00 AM to 2:00 PM every Thursday from May 21 through September 10\, switching to Fridays from September 18 – October 2. You are sure to love this community favorite event. From fresh veggies and cut flowers\, to fantastic olive oils\, to delicious sangria – this market has something for everyone in the family to enjoy!
URL:https://www.montauksun.com/event/montauk-chamber-of-commerce-visit-montauks-farmers-market/
LOCATION:Montauk Town Green\, 742 Montauk Highway\, Montauk\, NY\, 11954\, United States
CATEGORIES:Entertainment,Family Friendly,Free Event,Outdoor Event
ORGANIZER;CN="Montauk Chamber of Commerce":MAILTO:info@montaukchamber.com
END:VEVENT
BEGIN:VEVENT
DTSTART;TZID=America/New_York:20260522T170000
DTEND;TZID=America/New_York:20260522T190000
DTSTAMP:20260421T114812
CREATED:20260419T165157Z
LAST-MODIFIED:20260420T142909Z
UID:22246-1779469200-1779476400@www.montauksun.com
SUMMARY:Friday Classic Film Series at The Montauk Library
DESCRIPTION:The Purple Rose of Cairo\n\n1985 PG 1h 14m\nDirected by Woody Allen\nMia Farrow\, Jeff Daniels\, Danny Aiello\nTo escape her unhappy marriage\, a lonely waitress often goes to the movies until a handsome movie character steps off the screen\, offering her a glimmer of hope that she can find happiness. Allen’s audacious and witty film reflects the effect of fantasy when it interferes with reality.\nRegistration: https://www.eventbrite.com/o/montauk-library-52388952453
URL:https://www.montauksun.com/event/friday-classic-film-series-at-the-montauk-library-2/
LOCATION:Montauk Library\, 871 Montauk Hwy\, Montauk\, NY\, 11954\, United States
CATEGORIES:Entertainment,Free Event
END:VEVENT
BEGIN:VEVENT
DTSTART;TZID=America/New_York:20260528T090000
DTEND;TZID=America/New_York:20260528T140000
DTSTAMP:20260421T114812
CREATED:20260420T155541Z
LAST-MODIFIED:20260420T155541Z
UID:22458-1779958800-1779976800@www.montauksun.com
SUMMARY:Montauk Chamber of Commerce and Visit Montauk Farmer's Market
DESCRIPTION:Be sure to swing into Montauk each Thursday of the summer season to enjoy the largest Farmers Market on the East End with over 40 vendors. Open from 9:00 AM to 2:00 PM every Thursday from May 21 through September 10\, switching to Fridays from September 18 – October 2. You are sure to love this community favorite event. From fresh veggies and cut flowers\, to fantastic olive oils\, to delicious sangria – this market has something for everyone in the family to enjoy!
URL:https://www.montauksun.com/event/montauk-chamber-of-commerce-and-visit-montauk-farmers-market/
LOCATION:Montauk Town Green\, 742 Montauk Highway\, Montauk\, NY\, 11954\, United States
CATEGORIES:Entertainment,Family Friendly,Free Event,Outdoor Event
ORGANIZER;CN="Montauk Chamber of Commerce":MAILTO:info@montaukchamber.com
END:VEVENT
BEGIN:VEVENT
DTSTART;TZID=America/New_York:20260528T160000
DTEND;TZID=America/New_York:20260528T170000
DTSTAMP:20260421T114812
CREATED:20260419T181643Z
LAST-MODIFIED:20260420T140306Z
UID:22287-1779984000-1779987600@www.montauksun.com
SUMMARY:Book 'Tauk at the Montauk Library
DESCRIPTION:Book ‘Tauk: Arthur Mervin \n\nby Charles Brockden Brown (1771-1810)\n\nPublished in 1799\, Arthur Mervyn is one of the most influential works of early American literature. An important element of the plot is the author’s description of events that took place during The Yellow Fever epidemic of 1793 that devastated the nation’s temporary capital\, Philadelphia. Discussion at the Library and via Zoom
URL:https://www.montauksun.com/event/book-tauk-at-the-montauk-library/
LOCATION:Montauk Library\, 871 Montauk Hwy\, Montauk\, NY\, 11954\, United States
CATEGORIES:Educational,Entertainment,Free Event
END:VEVENT
BEGIN:VEVENT
DTSTART;TZID=America/New_York:20260529T170000
DTEND;TZID=America/New_York:20260529T190000
DTSTAMP:20260421T114812
CREATED:20260419T182217Z
LAST-MODIFIED:20260420T142815Z
UID:22291-1780074000-1780081200@www.montauksun.com
SUMMARY:Friday Classic Film Series at the Montauk Library
DESCRIPTION:La Vie en Rose\n2007 PG 13 2h 20m\nDirected by Olivier Dahan\nMarion Cotillard\, Gerard Depardieu\n\nMultiple international award winning biopic of the iconic French singer Édith Piaf. Despite her success\, Piaf’s life was filled with tragedy. Abandoned as a child and raised by her grandmother in a brothel\, she was discovered singing on a street corner and became the most famous and best loved French singer and songwriter of all time. In French with subtitles.\nRegistration: https://www.eventbrite.com/o/montauk-library-52388952453
URL:https://www.montauksun.com/event/montauk-library-friday-classic-film-series-1/
LOCATION:Montauk Library\, 871 Montauk Hwy\, Montauk\, NY\, 11954\, United States
CATEGORIES:Entertainment,Free Event
END:VEVENT
BEGIN:VEVENT
DTSTART;TZID=America/New_York:20260531T150000
DTEND;TZID=America/New_York:20260531T170000
DTSTAMP:20260421T114812
CREATED:20260420T142614Z
LAST-MODIFIED:20260420T142614Z
UID:22449-1780239600-1780246800@www.montauksun.com
SUMMARY:Montauk Library Live Performance: "John Adams\, Voice of The Revolution"
DESCRIPTION:JOHN ADAMS\, Voice of The Revolution\nA solo performance featuring Bob Spiotto\, Actor/Director\nPart of the Montauk Library’s USA 250th Series. Eventbrite registration strongly suggested.
URL:https://www.montauksun.com/event/montauk-library-live-performance-john-adams-voice-of-the-revolution/
LOCATION:Montauk Library\, 871 Montauk Hwy\, Montauk\, NY\, 11954\, United States
CATEGORIES:Educational,Entertainment,Free Event
END:VEVENT
END:VCALENDAR