BEGIN:VCALENDAR
VERSION:2.0
PRODID:-//Montauk Sun - ECPv6.15.11//NONSGML v1.0//EN
CALSCALE:GREGORIAN
METHOD:PUBLISH
X-WR-CALNAME:Montauk Sun
X-ORIGINAL-URL:https://www.montauksun.com
X-WR-CALDESC:Events for Montauk Sun
REFRESH-INTERVAL;VALUE=DURATION:PT1H
X-Robots-Tag:noindex
X-PUBLISHED-TTL:PT1H
BEGIN:VTIMEZONE
TZID:America/New_York
BEGIN:DAYLIGHT
TZOFFSETFROM:-0500
TZOFFSETTO:-0400
TZNAME:EDT
DTSTART:20250309T070000
END:DAYLIGHT
BEGIN:STANDARD
TZOFFSETFROM:-0400
TZOFFSETTO:-0500
TZNAME:EST
DTSTART:20251102T060000
END:STANDARD
BEGIN:DAYLIGHT
TZOFFSETFROM:-0500
TZOFFSETTO:-0400
TZNAME:EDT
DTSTART:20260308T070000
END:DAYLIGHT
BEGIN:STANDARD
TZOFFSETFROM:-0400
TZOFFSETTO:-0500
TZNAME:EST
DTSTART:20261101T060000
END:STANDARD
BEGIN:DAYLIGHT
TZOFFSETFROM:-0500
TZOFFSETTO:-0400
TZNAME:EDT
DTSTART:20270314T070000
END:DAYLIGHT
BEGIN:STANDARD
TZOFFSETFROM:-0400
TZOFFSETTO:-0500
TZNAME:EST
DTSTART:20271107T060000
END:STANDARD
END:VTIMEZONE
BEGIN:VEVENT
DTSTART;TZID=America/New_York:20260515T170000
DTEND;TZID=America/New_York:20260515T190000
DTSTAMP:20260421T131547
CREATED:20260419T164945Z
LAST-MODIFIED:20260420T143002Z
UID:22244-1778864400-1778871600@www.montauksun.com
SUMMARY:Friday Classic Film Series at The Montauk Library
DESCRIPTION:Honeysuckle Rose\n\n1980 PG 1h 59m\nDirected by Jerry Schatzberg\nWillie Nelson Dyan Cannon\, Amy Irving\n\nMovie critic Roger Ebert called Honeysuckle Rose “one of the cheeriest\, brightest looking movies I’ve ever seen.” Semi-documentary in style\, the film illustrates what a band on tour experiences and how time away from home can affect relationships. The film features footage of Willie’s on-stage performances.\nRegistration: https://www.eventbrite.com/o/montauk-library-52388952453
URL:https://www.montauksun.com/event/friday-classic-film-series-at-the-montauk-library-3/
LOCATION:Montauk Library\, 871 Montauk Hwy\, Montauk\, NY\, 11954\, United States
CATEGORIES:Entertainment,Free Event
END:VEVENT
BEGIN:VEVENT
DTSTART;VALUE=DATE:20260514
DTEND;VALUE=DATE:20260518
DTSTAMP:20260421T131547
CREATED:20260113T133431Z
LAST-MODIFIED:20260113T133431Z
UID:22108-1778716800-1779062399@www.montauksun.com
SUMMARY:The 15th Annual Montauk Music Festival
DESCRIPTION:Presented by The Montauk Sun\n4 Days • 400 Shows • 100 Bands • 45 Venues\nMain Stage is on the Green\nA percentage of the Main Stage proceeds will benefit Lucia’s Angels & Coalition for Women’s Cancers\nMay 14 to 17\, 2026\nJoin us at the opening party Thursday May 14th\, 6:15 pm at the Westlake Fish House\nA 4 day long showcase of Musicians performing original music. 45 different venues in Montauk\, NY.\nAlso a 2-day open air stage concert with two stages \nfeaturing Rock\, Pop\, Americana Alternative\, Reggae\, Blues\, Jazz\, Flamenco\, Country…\nFor info www.montaukmusicfestival.com
URL:https://www.montauksun.com/event/the-15th-annual-montauk-music-festival/
LOCATION:NY
CATEGORIES:Entertainment
ATTACH;FMTTYPE=image/jpeg:https://www.montauksun.com/wp-content/uploads/2026/01/MMF-Logo.jpg
END:VEVENT
BEGIN:VEVENT
DTSTART;TZID=America/New_York:20260508T170000
DTEND;TZID=America/New_York:20260508T190000
DTSTAMP:20260421T131547
CREATED:20260419T164607Z
LAST-MODIFIED:20260420T143121Z
UID:22242-1778259600-1778266800@www.montauksun.com
SUMMARY:Friday Classic Film Series at The Montauk Library
DESCRIPTION:The Rose\n\n1979 R 1h 14m\nDirected by Mark Rydell\nBette Midler\, Alan Bates\nRock diva Mary Rose Foster struggles with the pressures of success and the demands of her manager. Inspired by the life of Janis Joplin\, the film’s distinctions include Golden Globe and Grammy Awards and Oscar nominations for the Divine Miss M.  Registration: https://www.eventbrite.com/o/montauk-library-52388952453
URL:https://www.montauksun.com/event/registration-https-www-eventbrite-com-o-montauk-library-52388952453friday-classic-film-series-at-the-montauk-library-4/
LOCATION:Montauk Library\, 871 Montauk Hwy\, Montauk\, NY\, 11954\, United States
CATEGORIES:Entertainment,Free Event
END:VEVENT
BEGIN:VEVENT
DTSTART;TZID=America/New_York:20260501T170000
DTEND;TZID=America/New_York:20260501T190000
DTSTAMP:20260421T131547
CREATED:20260419T164219Z
LAST-MODIFIED:20260420T143208Z
UID:22239-1777654800-1777662000@www.montauksun.com
SUMMARY:Friday Classic Film Series at The Montauk Library
DESCRIPTION:The Rose Tattoo\n1955  – 1h 57m . Directed by Daniel Mann. Starring Anna Magnani\, Burt Lancaster \nA happily married Sicilian immigrant must deal with family crises upon her husband’s sudden death. Anna Magnani’s Oscar winning performance is spellbinding. Based on a play by Tennessee Williams\, the energy is intense.\nRegistration: https://www.eventbrite.com/o/montauk-library-52388952453
URL:https://www.montauksun.com/event/friday-classic-film-series-at-the-montauk-library-5/
LOCATION:Montauk Library\, 871 Montauk Hwy\, Montauk\, NY\, 11954\, United States
CATEGORIES:Entertainment,Free Event
END:VEVENT
END:VCALENDAR